BEGIN:VCALENDAR
VERSION:2.0
PRODID:-//Trinity Missions - ECPv6.15.17//NONSGML v1.0//EN
CALSCALE:GREGORIAN
METHOD:PUBLISH
X-ORIGINAL-URL:https://trinitymissionscentennial.org
X-WR-CALDESC:Events for Trinity Missions
REFRESH-INTERVAL;VALUE=DURATION:PT1H
X-Robots-Tag:noindex
X-PUBLISHED-TTL:PT1H
BEGIN:VTIMEZONE
TZID:America/New_York
BEGIN:DAYLIGHT
TZOFFSETFROM:-0500
TZOFFSETTO:-0400
TZNAME:EDT
DTSTART:20200308T070000
END:DAYLIGHT
BEGIN:STANDARD
TZOFFSETFROM:-0400
TZOFFSETTO:-0500
TZNAME:EST
DTSTART:20201101T060000
END:STANDARD
BEGIN:DAYLIGHT
TZOFFSETFROM:-0500
TZOFFSETTO:-0400
TZNAME:EDT
DTSTART:20210314T070000
END:DAYLIGHT
BEGIN:STANDARD
TZOFFSETFROM:-0400
TZOFFSETTO:-0500
TZNAME:EST
DTSTART:20211107T060000
END:STANDARD
BEGIN:DAYLIGHT
TZOFFSETFROM:-0500
TZOFFSETTO:-0400
TZNAME:EDT
DTSTART:20220313T070000
END:DAYLIGHT
BEGIN:STANDARD
TZOFFSETFROM:-0400
TZOFFSETTO:-0500
TZNAME:EST
DTSTART:20221106T060000
END:STANDARD
END:VTIMEZONE
BEGIN:VEVENT
DTSTART;TZID=America/New_York:20210530T113000
DTEND;TZID=America/New_York:20210530T123000
DTSTAMP:20260422T045615
CREATED:20210528T141636Z
LAST-MODIFIED:20210528T141803Z
UID:10000031-1622374200-1622377800@trinitymissionscentennial.org
SUMMARY:Trinity Sunday Mass (Spanish)
DESCRIPTION:Join us at 11:30 a.m. ET on Facebook for a Spanish livestream Mass to celebrate Trinity Sunday. Visit https://www.facebook.com/stjosepholytrinity/ to watch the livestream.
URL:https://trinitymissionscentennial.org/event/trinity-sunday-mass-spanish/
LOCATION:Live streamed
ATTACH;FMTTYPE=image/jpeg:https://trinitymissionscentennial.org/wp-content/uploads/2021/05/tms_trinity_sunday_mass_spanish.jpg
END:VEVENT
BEGIN:VEVENT
DTSTART;TZID=America/New_York:20210530T093000
DTEND;TZID=America/New_York:20210530T103000
DTSTAMP:20260422T045615
CREATED:20210528T135106Z
LAST-MODIFIED:20210528T141655Z
UID:10000030-1622367000-1622370600@trinitymissionscentennial.org
SUMMARY:Trinity Sunday Mass (English)
DESCRIPTION:Join us at 9:30 a.m. ET on Facebook for an English livestream Mass to celebrate Trinity Sunday. Visit https://www.facebook.com/stjosepholytrinity/ to watch the livestream.
URL:https://trinitymissionscentennial.org/event/trinity-sunday-mass-english/
LOCATION:Live streamed
ATTACH;FMTTYPE=image/jpeg:https://trinitymissionscentennial.org/wp-content/uploads/2021/05/tms_trinity_sunday_mass_english.jpg
END:VEVENT
BEGIN:VEVENT
DTSTART;VALUE=DATE:20210529
DTEND;VALUE=DATE:20210701
DTSTAMP:20260422T045615
CREATED:20210423T143227Z
LAST-MODIFIED:20210607T164844Z
UID:10000029-1622246400-1625097599@trinitymissionscentennial.org
SUMMARY:[LIVE] Virtual Centennial Celebration: Opening Ceremony
DESCRIPTION:[vc_row][vc_column][vc_column_text]Please mark your calendar for this special event to launch Trinity Missions’ 100th anniversary. This live virtual celebration will present the inspiring story of our charism and work to preserve the faith among people who are spiritually neglected and abandoned\, especially the poor. \nFor 100 years\, the Missionary Servants of the Most Holy Trinity have answered the call to bring Christ’s love to those in greatest need throughout North and Latin America and the Caribbean. In our 37 missions\, we bring God’s presence\, food to the poor\, healing to the sick\, and hope to those in danger of losing their Catholic Faith. \nWe cannot do it alone. Your prayers sustain us\, and your generosity allows us to continue to care for the whole person and bring lasting change. Join us as we embark on the next 100 years of sharing Christ’s love. Thanks for being a part of our mission.[/vc_column_text][vc_btn title=”Watch the Livestream” style=”custom” custom_background=”#b40023″ custom_text=”#ffffff” shape=”square” link=”url:https%3A%2F%2Ftrinitymissionscentennial.org%2Flivestream%2F” css=”.vc_custom_1622212293074{margin-bottom: 0px !important;}”][vc_empty_space][/vc_column][/vc_row]
URL:https://trinitymissionscentennial.org/event/virtual-centennial-celebration-opening-ceremony/
LOCATION:Live streamed
CATEGORIES:Featured
ATTACH;FMTTYPE=image/jpeg:https://trinitymissionscentennial.org/wp-content/uploads/2021/04/DSC_4465_118-scaled.jpg
END:VEVENT
END:VCALENDAR